BEGIN:VCALENDAR
VERSION:2.0
PRODID:-//Biblioteka Pedagogiczna w Pile - ECPv6.15.12.2//NONSGML v1.0//EN
CALSCALE:GREGORIAN
METHOD:PUBLISH
X-WR-CALNAME:Biblioteka Pedagogiczna w Pile
X-ORIGINAL-URL:https://bppila.cdnpila.pl
X-WR-CALDESC:Wydarzenia dla Biblioteka Pedagogiczna w Pile
REFRESH-INTERVAL;VALUE=DURATION:PT1H
X-Robots-Tag:noindex
X-PUBLISHED-TTL:PT1H
BEGIN:VTIMEZONE
TZID:Europe/Warsaw
BEGIN:DAYLIGHT
TZOFFSETFROM:+0100
TZOFFSETTO:+0200
TZNAME:CEST
DTSTART:20240331T010000
END:DAYLIGHT
BEGIN:STANDARD
TZOFFSETFROM:+0200
TZOFFSETTO:+0100
TZNAME:CET
DTSTART:20241027T010000
END:STANDARD
BEGIN:DAYLIGHT
TZOFFSETFROM:+0100
TZOFFSETTO:+0200
TZNAME:CEST
DTSTART:20250330T010000
END:DAYLIGHT
BEGIN:STANDARD
TZOFFSETFROM:+0200
TZOFFSETTO:+0100
TZNAME:CET
DTSTART:20251026T010000
END:STANDARD
BEGIN:DAYLIGHT
TZOFFSETFROM:+0100
TZOFFSETTO:+0200
TZNAME:CEST
DTSTART:20260329T010000
END:DAYLIGHT
BEGIN:STANDARD
TZOFFSETFROM:+0200
TZOFFSETTO:+0100
TZNAME:CET
DTSTART:20261025T010000
END:STANDARD
END:VTIMEZONE
BEGIN:VEVENT
DTSTART;TZID=Europe/Warsaw:20250905T100000
DTEND;TZID=Europe/Warsaw:20250905T120000
DTSTAMP:20260423T211449
CREATED:20250829T122248Z
LAST-MODIFIED:20250829T122248Z
UID:4510-1757066400-1757073600@bppila.cdnpila.pl
SUMMARY:Narodowe Czytanie 2025
DESCRIPTION:Zapraszamy wszystkich zainteresowanych na tegoroczne Narodowe Czytanie\, które tradycyjnie odbędzie się w ogrodzie Muzeum Okręgowego w Pile dnia 5 września 2025 r. o godz. 10:00.\nW programie:\n– krótki program artystyczny\, zawierający życiorys Jana Kochanowskiego oraz wybrane fraszki\, pieśni i treny poety;\n– odczytanie fragmentów utworów J. Kochanowskiego przez publiczność;\n– pamiątkowe zakładki do książek i przypinki z motywem Narodowego Czytania 2025;\n– okolicznościowa pieczęć na własnych egzemplarzach dzieł J. Kochanowskiego.\nWstęp wolny (grupy szkolne po wcześniejszym zgłoszeniu do Biblioteki).
URL:https://bppila.cdnpila.pl/szkolenie/narodowe-czytanie-2025/
LOCATION:Muzeum Okręgowe\, ul. Browarna 7\, Piła\, wielkopolskie\, 64-920\, Poland
ATTACH;FMTTYPE=image/png:https://bppila.cdnpila.pl/wp-content/uploads/2025/08/Narodowe-Czytanie-2025-post.png
END:VEVENT
BEGIN:VEVENT
DTSTART;TZID=Europe/Warsaw:20250922T140000
DTEND;TZID=Europe/Warsaw:20250922T180000
DTSTAMP:20260423T211449
CREATED:20250916T104336Z
LAST-MODIFIED:20250919T092113Z
UID:4529-1758549600-1758564000@bppila.cdnpila.pl
SUMMARY:Drzwi Otwarte w CDN
DESCRIPTION:22 września 2025 r. w godzinach 14:00 – 18:00 odbędą się Drzwi Otwarte w Bibliotece Pedagogicznej w Pile. Z tej okazji biblioteka przygotowała bezpłatny zapis nowych czytelników. Gorąco zapraszamy wszystkich chętnych do uczestnictwa w tym wydarzeniu.\n\n\n\n 
URL:https://bppila.cdnpila.pl/szkolenie/drzwi-otwarte/
LOCATION:Publiczna Biblioteka Pedagogiczna\, ul. Bydgoska 21\, Piła\, wielkopolskie\, 64-920\, Poland
ATTACH;FMTTYPE=image/png:https://bppila.cdnpila.pl/wp-content/uploads/2025/09/drzwiotwarte.png
END:VEVENT
BEGIN:VEVENT
DTSTART;TZID=Europe/Warsaw:20250923T170000
DTEND;TZID=Europe/Warsaw:20250923T190000
DTSTAMP:20260423T211449
CREATED:20250916T121911Z
LAST-MODIFIED:20250916T121911Z
UID:4537-1758646800-1758654000@bppila.cdnpila.pl
SUMMARY:Spotkanie z Marcinem Kostrzyńskim
DESCRIPTION:Zapraszamy na spotkanie autorskie z Marcinem Kostrzyńskim “Marcinem z Lasu”\, które odbędzie się w Publicznej Bibliotece Pedagogicznej w Pile przy ul. Bydgoskiej 21\, dnia 23 września 2025 r. o godz. 17:00.
URL:https://bppila.cdnpila.pl/szkolenie/spotkanie-z-marcinem-kostrzynskim/
LOCATION:Publiczna Biblioteka Pedagogiczna\, ul. Bydgoska 21\, Piła\, wielkopolskie\, 64-920\, Poland
ATTACH;FMTTYPE=image/png:https://bppila.cdnpila.pl/wp-content/uploads/2025/09/plakat02.png
END:VEVENT
END:VCALENDAR