BEGIN:VCALENDAR
VERSION:2.0
PRODID:-//Biblioteka Pedagogiczna w Pile - ECPv6.15.12.2//NONSGML v1.0//EN
CALSCALE:GREGORIAN
METHOD:PUBLISH
X-ORIGINAL-URL:https://bppila.cdnpila.pl
X-WR-CALDESC:Wydarzenia dla Biblioteka Pedagogiczna w Pile
REFRESH-INTERVAL;VALUE=DURATION:PT1H
X-Robots-Tag:noindex
X-PUBLISHED-TTL:PT1H
BEGIN:VTIMEZONE
TZID:Europe/Warsaw
BEGIN:DAYLIGHT
TZOFFSETFROM:+0100
TZOFFSETTO:+0200
TZNAME:CEST
DTSTART:20250330T010000
END:DAYLIGHT
BEGIN:STANDARD
TZOFFSETFROM:+0200
TZOFFSETTO:+0100
TZNAME:CET
DTSTART:20251026T010000
END:STANDARD
BEGIN:DAYLIGHT
TZOFFSETFROM:+0100
TZOFFSETTO:+0200
TZNAME:CEST
DTSTART:20260329T010000
END:DAYLIGHT
BEGIN:STANDARD
TZOFFSETFROM:+0200
TZOFFSETTO:+0100
TZNAME:CET
DTSTART:20261025T010000
END:STANDARD
BEGIN:DAYLIGHT
TZOFFSETFROM:+0100
TZOFFSETTO:+0200
TZNAME:CEST
DTSTART:20270328T010000
END:DAYLIGHT
BEGIN:STANDARD
TZOFFSETFROM:+0200
TZOFFSETTO:+0100
TZNAME:CET
DTSTART:20271031T010000
END:STANDARD
END:VTIMEZONE
BEGIN:VEVENT
DTSTART;VALUE=DATE:20260320
DTEND;VALUE=DATE:20260321
DTSTAMP:20260423T133037
CREATED:20260204T141735Z
LAST-MODIFIED:20260204T141735Z
UID:4936-1773964800-1774051199@bppila.cdnpila.pl
SUMMARY:III Powiatowy Konkurs "Antyk łączy epoki"
DESCRIPTION:Serdecznie zapraszamy do udziału w III Powiatowym Konkursie “Antyk łączy epoki” dla uczniów klas 6-7 szkół podstawowych.\n \nKonkurs odbędzie się w dwóch etapach – pierwszy plastyczny\, drugi w formie turnieju wiedzy.\n \nNa prace plastyczne wykonane przez 3-osobowe zespoły czekamy do 20 marca 2026 r. Zwycięskie drużyny zaprosimy na finał\, który odbędzie się 14 maja 2026 r. w Publicznej Bibliotece Pedagogicznej w Pile.\n \nZachęcamy do zainteresowania się kulturą antyczną!\n \nSzczegółowe informacje dostępne są w Regulaminie Konkursu.\n \nRegulamin konkursu >>>\n \nZałączniki:\n \nKarta zgłoszenia >>>\n \nZakres materiału >>>
URL:https://bppila.cdnpila.pl/szkolenie/iii-powiatowy-konkurs-antyk-laczy-epoki/
LOCATION:Publiczna Biblioteka Pedagogiczna\, ul. Bydgoska 21\, Piła\, wielkopolskie\, 64-920\, Poland
ATTACH;FMTTYPE=image/png:https://bppila.cdnpila.pl/wp-content/uploads/2026/02/konk.antyk_.png
END:VEVENT
END:VCALENDAR