BEGIN:VCALENDAR
VERSION:2.0
PRODID:-//Biblioteka Pedagogiczna w Pile - ECPv6.15.12.2//NONSGML v1.0//EN
CALSCALE:GREGORIAN
METHOD:PUBLISH
X-ORIGINAL-URL:https://bppila.cdnpila.pl
X-WR-CALDESC:Wydarzenia dla Biblioteka Pedagogiczna w Pile
REFRESH-INTERVAL;VALUE=DURATION:PT1H
X-Robots-Tag:noindex
X-PUBLISHED-TTL:PT1H
BEGIN:VTIMEZONE
TZID:Europe/Warsaw
BEGIN:DAYLIGHT
TZOFFSETFROM:+0100
TZOFFSETTO:+0200
TZNAME:CEST
DTSTART:20240331T010000
END:DAYLIGHT
BEGIN:STANDARD
TZOFFSETFROM:+0200
TZOFFSETTO:+0100
TZNAME:CET
DTSTART:20241027T010000
END:STANDARD
BEGIN:DAYLIGHT
TZOFFSETFROM:+0100
TZOFFSETTO:+0200
TZNAME:CEST
DTSTART:20250330T010000
END:DAYLIGHT
BEGIN:STANDARD
TZOFFSETFROM:+0200
TZOFFSETTO:+0100
TZNAME:CET
DTSTART:20251026T010000
END:STANDARD
BEGIN:DAYLIGHT
TZOFFSETFROM:+0100
TZOFFSETTO:+0200
TZNAME:CEST
DTSTART:20260329T010000
END:DAYLIGHT
BEGIN:STANDARD
TZOFFSETFROM:+0200
TZOFFSETTO:+0100
TZNAME:CET
DTSTART:20261025T010000
END:STANDARD
END:VTIMEZONE
BEGIN:VEVENT
DTSTART;TZID=Europe/Warsaw:20251126T170000
DTEND;TZID=Europe/Warsaw:20251126T190000
DTSTAMP:20260423T194149
CREATED:20251113T133600Z
LAST-MODIFIED:20251113T133600Z
UID:4829-1764176400-1764183600@bppila.cdnpila.pl
SUMMARY:Klub LIBRO - Kobieca strona dietetyki
DESCRIPTION:Klub LIBRO – Sieć współpracy i samokształcenia nauczycieli\, serdecznie zaprasza na spotkanie “Kobieca strona dietetyki” z Pauliną Górską\, doktorem nauk medycznych i nauk o zdrowiu\, dietetyczką kliniczną. Pani Paulina opowie o tym\, jak na co dzień dbać o zdrowie i urodę poprzez zdrowe odżywianie i suplementację. \nZapraszamy drogie Panie ( i Panów) na spędzenie wieczoru z ekspertem i poznanie tajników pięknego i zdrowego życia! \nWydarzenie odbędzie się dnia 26 listopada 2025 r. o godz. 17:00 na platformie Microsoft Teams. \nLink do spotkania zostanie wysłany zainteresowanym osobom. \nProsimy zgłaszać chęć udziału na adres e-mail: j.stemler@cdn.pila.pl do dnia 26.11.2025 do godz. 12.00.
URL:https://bppila.cdnpila.pl/szkolenie/klub-libro-kobieca-strona-dietetyki/
LOCATION:wielkopolskie
ATTACH;FMTTYPE=image/png:https://bppila.cdnpila.pl/wp-content/uploads/2025/11/plakatdietetyk.png
END:VEVENT
END:VCALENDAR