BEGIN:VCALENDAR
VERSION:2.0
PRODID:-//Biblioteka Pedagogiczna w Pile - ECPv6.15.12.2//NONSGML v1.0//EN
CALSCALE:GREGORIAN
METHOD:PUBLISH
X-ORIGINAL-URL:https://bppila.cdnpila.pl
X-WR-CALDESC:Wydarzenia dla Biblioteka Pedagogiczna w Pile
REFRESH-INTERVAL;VALUE=DURATION:PT1H
X-Robots-Tag:noindex
X-PUBLISHED-TTL:PT1H
BEGIN:VTIMEZONE
TZID:Europe/Warsaw
BEGIN:DAYLIGHT
TZOFFSETFROM:+0100
TZOFFSETTO:+0200
TZNAME:CEST
DTSTART:20240331T010000
END:DAYLIGHT
BEGIN:STANDARD
TZOFFSETFROM:+0200
TZOFFSETTO:+0100
TZNAME:CET
DTSTART:20241027T010000
END:STANDARD
BEGIN:DAYLIGHT
TZOFFSETFROM:+0100
TZOFFSETTO:+0200
TZNAME:CEST
DTSTART:20250330T010000
END:DAYLIGHT
BEGIN:STANDARD
TZOFFSETFROM:+0200
TZOFFSETTO:+0100
TZNAME:CET
DTSTART:20251026T010000
END:STANDARD
BEGIN:DAYLIGHT
TZOFFSETFROM:+0100
TZOFFSETTO:+0200
TZNAME:CEST
DTSTART:20260329T010000
END:DAYLIGHT
BEGIN:STANDARD
TZOFFSETFROM:+0200
TZOFFSETTO:+0100
TZNAME:CET
DTSTART:20261025T010000
END:STANDARD
END:VTIMEZONE
BEGIN:VEVENT
DTSTART;TZID=Europe/Warsaw:20251106T170000
DTEND;TZID=Europe/Warsaw:20251106T190000
DTSTAMP:20260423T193619
CREATED:20251023T081256Z
LAST-MODIFIED:20251023T081256Z
UID:4788-1762448400-1762455600@bppila.cdnpila.pl
SUMMARY:Arkady Radosław Fiedler - spotkanie autorskie
DESCRIPTION:Podróże\, przygoda i opowieści z drugiego końca świata!\nArkady Radosław Fiedler wyrusza w kolejną podróż — tym razem do nas!\nZapraszamy na spotkanie z autorem\, który z pasją opowiada o odkrywaniu świata\, ludziach i naturze.\n \nSpotkanie odbędzie się 6 listopada 2025 r. w Publicznej Bibliotece Pedagogicznej\, Piła\, ul. Bydgoska 21 o godz.17:00.\n \nNie przegap wieczoru pełnego inspiracji\, wspomnień i fotografii z wypraw.\nZabierz ze sobą ciekawość świata — resztą zajmie się Arkady Radosław Fiedler.\n \nZapisz się już teraz! Link Zapisy pod linkiem https://forms.office.com/e/WLPQj78j3Q
URL:https://bppila.cdnpila.pl/szkolenie/arkady-radoslaw-fiedler-spotkanie-autorskie/
LOCATION:Publiczna Biblioteka Pedagogiczna\, ul. Bydgoska 21\, Piła\, wielkopolskie\, 64-920\, Poland
ATTACH;FMTTYPE=image/jpeg:https://bppila.cdnpila.pl/wp-content/uploads/2025/10/spotkanie_aut.jpg
END:VEVENT
END:VCALENDAR